BEGIN:VCALENDAR
VERSION:2.0
PRODID:-//81.88.36.52//NONSGML kigkonsult.se iCalcreator 2.20//
CALSCALE:GREGORIAN
METHOD:PUBLISH
X-WR-TIMEZONE:Europe/Vienna
BEGIN:VEVENT
UID:event616@Online-Magazin SCHNAPPEN.AT: die interessanten Seiten des Lebe
 ns
DTSTAMP:20260425T105211Z
CATEGORIES:Veranstaltungen
DESCRIPTION:Ruster Weinschätze 2026\nKategorie: Veranstaltungen\nICS-Link: 
 https://schnappen.at/oesterreich/index.php?option=com_jem&view=event&id=61
 6:ruster-weinwoche\n
DTSTART;VALUE=DATE:20260424
DTEND;VALUE=DATE:20260427
LOCATION:Rust am Neusiedlersee\,Hauptstraße\,7071 rust\,Austria
SUMMARY:Ruster Weinschätze 2026
URL:https://schnappen.at/oesterreich/index.php?option=com_jem&view=event&id
 =616:ruster-weinwoche
END:VEVENT
BEGIN:VEVENT
UID:event616@Online-Magazin SCHNAPPEN.AT: die interessanten Seiten des Lebe
 ns
DTSTAMP:20260425T105211Z
CATEGORIES:Veranstaltungen
DESCRIPTION:Ruster Weinschätze 2026\nKategorie: Veranstaltungen\nICS-Link: 
 https://schnappen.at/oesterreich/index.php?option=com_jem&view=event&id=61
 6:ruster-weinwoche\n
DTSTART;VALUE=DATE:20260425
DTEND;VALUE=DATE:20260427
LOCATION:Rust am Neusiedlersee\,Hauptstraße\,7071 rust\,Austria
SUMMARY:Ruster Weinschätze 2026
URL:https://schnappen.at/oesterreich/index.php?option=com_jem&view=event&id
 =616:ruster-weinwoche
END:VEVENT
BEGIN:VEVENT
UID:event616@Online-Magazin SCHNAPPEN.AT: die interessanten Seiten des Lebe
 ns
DTSTAMP:20260425T105211Z
CATEGORIES:Veranstaltungen
DESCRIPTION:Ruster Weinschätze 2026\nKategorie: Veranstaltungen\nICS-Link: 
 https://schnappen.at/oesterreich/index.php?option=com_jem&view=event&id=61
 6:ruster-weinwoche\n
DTSTART;VALUE=DATE:20260426
DTEND;VALUE=DATE:20260427
LOCATION:Rust am Neusiedlersee\,Hauptstraße\,7071 rust\,Austria
SUMMARY:Ruster Weinschätze 2026
URL:https://schnappen.at/oesterreich/index.php?option=com_jem&view=event&id
 =616:ruster-weinwoche
END:VEVENT
END:VCALENDAR