BEGIN:VCALENDAR
VERSION:2.0
PRODID:-//81.88.36.52//NONSGML kigkonsult.se iCalcreator 2.20//
CALSCALE:GREGORIAN
METHOD:PUBLISH
X-WR-TIMEZONE:Europe/Vienna
BEGIN:VEVENT
UID:event1244@Online-Magazin SCHNAPPEN.AT: die interessanten Seiten des Leb
 ens
DTSTAMP:20260425T121817Z
CATEGORIES:Veranstaltungen
DESCRIPTION:Stadttheater Mödling\nKategorie: Veranstaltungen\nICS-Link: htt
 ps://schnappen.at/oesterreich/index.php?option=com_jem&view=event&id=1244:
 stadttheater-moedling\n
DTSTART;VALUE=DATE:20260424
DTEND;VALUE=DATE:20260426
LOCATION:Mödling\,Zentrum\,2340 Mödling\,Austria
SUMMARY:Stadttheater Mödling
URL:https://schnappen.at/oesterreich/index.php?option=com_jem&view=event&id
 =1244:stadttheater-moedling
END:VEVENT
BEGIN:VEVENT
UID:event1244@Online-Magazin SCHNAPPEN.AT: die interessanten Seiten des Leb
 ens
DTSTAMP:20260425T121817Z
CATEGORIES:Veranstaltungen
DESCRIPTION:Stadttheater Mödling\nKategorie: Veranstaltungen\nICS-Link: htt
 ps://schnappen.at/oesterreich/index.php?option=com_jem&view=event&id=1244:
 stadttheater-moedling\n
DTSTART;VALUE=DATE:20260425
DTEND;VALUE=DATE:20260426
LOCATION:Mödling\,Zentrum\,2340 Mödling\,Austria
SUMMARY:Stadttheater Mödling
URL:https://schnappen.at/oesterreich/index.php?option=com_jem&view=event&id
 =1244:stadttheater-moedling
END:VEVENT
END:VCALENDAR