BEGIN:VCALENDAR
VERSION:2.0
PRODID:-//81.88.36.52//NONSGML kigkonsult.se iCalcreator 2.20//
CALSCALE:GREGORIAN
METHOD:PUBLISH
X-WR-TIMEZONE:Europe/Vienna
BEGIN:VEVENT
UID:event2085@Online-Magazin SCHNAPPEN.AT: die interessanten Seiten des Leb
 ens
DTSTAMP:20260425T105628Z
CATEGORIES:Veranstaltungen
DESCRIPTION:Klassik.Klang Berndorf\nKategorie: Veranstaltungen\nICS-Link: h
 ttps://schnappen.at/oesterreich/index.php?option=com_jem&view=event&id=208
 5:klassik-bernodrf\n
DTSTART;VALUE=DATE:20260425
DTEND;VALUE=DATE:20260427
LOCATION:Stadttheater Berndorf\,Kislingerplatz 6\,2560 Berndorf\,Austria
SUMMARY:Klassik.Klang Berndorf
URL:https://schnappen.at/oesterreich/index.php?option=com_jem&view=event&id
 =2085:klassik-bernodrf
END:VEVENT
BEGIN:VEVENT
UID:event2085@Online-Magazin SCHNAPPEN.AT: die interessanten Seiten des Leb
 ens
DTSTAMP:20260425T105628Z
CATEGORIES:Veranstaltungen
DESCRIPTION:Klassik.Klang Berndorf\nKategorie: Veranstaltungen\nICS-Link: h
 ttps://schnappen.at/oesterreich/index.php?option=com_jem&view=event&id=208
 5:klassik-bernodrf\n
DTSTART;VALUE=DATE:20260426
DTEND;VALUE=DATE:20260427
LOCATION:Stadttheater Berndorf\,Kislingerplatz 6\,2560 Berndorf\,Austria
SUMMARY:Klassik.Klang Berndorf
URL:https://schnappen.at/oesterreich/index.php?option=com_jem&view=event&id
 =2085:klassik-bernodrf
END:VEVENT
END:VCALENDAR