BEGIN:VCALENDAR
VERSION:2.0
PRODID:-//81.88.36.52//NONSGML kigkonsult.se iCalcreator 2.20//
CALSCALE:GREGORIAN
METHOD:PUBLISH
X-WR-TIMEZONE:Europe/Vienna
BEGIN:VEVENT
UID:event1885@Online-Magazin SCHNAPPEN.AT: die interessanten Seiten des Leb
 ens
DTSTAMP:20260425T121819Z
CATEGORIES:Veranstaltungen
DESCRIPTION:Landesgalerie & Kunstmeile Krems: Ausstellungen\, Führungen\, F
 estivals\nKategorie: Veranstaltungen\nICS-Link: https://schnappen.at/oeste
 rreich/index.php?option=com_jem&view=event&id=1885:landesgalerie-noe\n
DTSTART;VALUE=DATE:20260425
DTEND;VALUE=DATE:20260426
LOCATION:Landesgalerie Niederösterreich Krems\,Steiner Landstraße 1\,3500  
 Krems an der Donau\,Austria
SUMMARY:Landesgalerie & Kunstmeile Krems: Ausstellungen\, Führungen\, Festi
 vals
URL:https://schnappen.at/oesterreich/index.php?option=com_jem&view=event&id
 =1885:landesgalerie-noe
END:VEVENT
END:VCALENDAR