BEGIN:VCALENDAR
VERSION:2.0
PRODID:-//81.88.36.52//NONSGML kigkonsult.se iCalcreator 2.20//
CALSCALE:GREGORIAN
METHOD:PUBLISH
X-WR-TIMEZONE:Europe/Vienna
BEGIN:VEVENT
UID:event1698@Online-Magazin SCHNAPPEN.AT: die interessanten Seiten des Leb
 ens
DTSTAMP:20260425T121823Z
CATEGORIES:Veranstaltungen
DESCRIPTION:Chelsea: Konzerte & Auftritte\nKategorie: Veranstaltungen\nICS-
 Link: https://schnappen.at/oesterreich/index.php?option=com_jem&view=event
 &id=1698:chelsea\n
DTSTART;VALUE=DATE:20260430
DTEND;VALUE=DATE:20260501
LOCATION:Chelsea Wien\,Lerchenfelder Gürtel\, U-Bahnbögen 29-30\,1080  Wien
 \,Austria
SUMMARY:Chelsea: Konzerte & Auftritte
URL:https://schnappen.at/oesterreich/index.php?option=com_jem&view=event&id
 =1698:chelsea
END:VEVENT
END:VCALENDAR