BEGIN:VCALENDAR
VERSION:2.0
PRODID:-//81.88.36.52//NONSGML kigkonsult.se iCalcreator 2.20//
CALSCALE:GREGORIAN
METHOD:PUBLISH
X-WR-TIMEZONE:Europe/Vienna
BEGIN:VEVENT
UID:event1747@Online-Magazin SCHNAPPEN.AT: die interessanten Seiten des Leb
 ens
DTSTAMP:20260425T121936Z
CATEGORIES:Termine noch offen
DESCRIPTION:Feuerwehrball der FF Wr. Neustadt\nKategorie: Termine noch offe
 n\nICS-Link: https://schnappen.at/oesterreich/index.php?option=com_jem&vie
 w=event&id=1747:feuerwehrball-wiener-neustadt\n
DTSTART;TZID=Europe/Vienna:20260418T200000
DTEND;TZID=Europe/Vienna:20260418T200000
LOCATION:Sparkassensaal Wr. Neustadt\,Neunkirchner Str. 17\,2700  Wr. Neust
 adt\,Austria
SUMMARY:Feuerwehrball der FF Wr. Neustadt
URL:https://schnappen.at/oesterreich/index.php?option=com_jem&view=event&id
 =1747:feuerwehrball-wiener-neustadt
END:VEVENT
END:VCALENDAR