BEGIN:VCALENDAR
VERSION:2.0
PRODID:-//81.88.36.52//NONSGML kigkonsult.se iCalcreator 2.20//
CALSCALE:GREGORIAN
METHOD:PUBLISH
X-WR-TIMEZONE:Europe/Vienna
BEGIN:VEVENT
UID:event998@Online-Magazin SCHNAPPEN.AT: die interessanten Seiten des Lebe
 ns
DTSTAMP:20260425T105356Z
CATEGORIES:Veranstaltungen
DESCRIPTION:Patti Smith \nKategorie: Veranstaltungen\nICS-Link: https://sch
 nappen.at/oesterreich/index.php?option=com_jem&view=event&id=998:patti-smi
 th\n
DTSTART;VALUE=DATE:20260521
DTEND;VALUE=DATE:20260522
LOCATION:Arena Wien\,Baumgasse 80\,1030 Wien
SUMMARY:Patti Smith 
URL:https://schnappen.at/oesterreich/index.php?option=com_jem&view=event&id
 =998:patti-smith
END:VEVENT
END:VCALENDAR