BEGIN:VCALENDAR
VERSION:2.0
PRODID:-//81.88.36.52//NONSGML kigkonsult.se iCalcreator 2.20//
CALSCALE:GREGORIAN
METHOD:PUBLISH
X-WR-TIMEZONE:Europe/Vienna
BEGIN:VEVENT
UID:event995@Online-Magazin SCHNAPPEN.AT: die interessanten Seiten des Lebe
 ns
DTSTAMP:20260425T121816Z
CATEGORIES:Veranstaltungen
DESCRIPTION:Almkäseolympiade in Galtür Tirol\nKategorie: Veranstaltungen\nI
 CS-Link: https://schnappen.at/oesterreich/index.php?option=com_jem&view=ev
 ent&id=995:almkaese\n
DTSTART;VALUE=DATE:20260926
DTEND;VALUE=DATE:20260927
SUMMARY:Almkäseolympiade in Galtür Tirol
URL:https://schnappen.at/oesterreich/index.php?option=com_jem&view=event&id
 =995:almkaese
END:VEVENT
END:VCALENDAR