BEGIN:VCALENDAR
VERSION:2.0
PRODID:-//81.88.36.52//NONSGML kigkonsult.se iCalcreator 2.20//
CALSCALE:GREGORIAN
METHOD:PUBLISH
X-WR-TIMEZONE:Europe/Vienna
BEGIN:VEVENT
UID:event993@Online-Magazin SCHNAPPEN.AT: die interessanten Seiten des Lebe
 ns
DTSTAMP:20260425T121953Z
CATEGORIES:Veranstaltungen
DESCRIPTION:Kräuterfestival in Irschen in Kärnten\nKategorie: Veranstaltung
 en\nICS-Link: https://schnappen.at/oesterreich/index.php?option=com_jem&vi
 ew=event&id=993:kraeuterfest\n
DTSTART;VALUE=DATE:20260704
DTEND;VALUE=DATE:20260705
SUMMARY:Kräuterfestival in Irschen in Kärnten
URL:https://schnappen.at/oesterreich/index.php?option=com_jem&view=event&id
 =993:kraeuterfest
END:VEVENT
END:VCALENDAR