BEGIN:VCALENDAR
VERSION:2.0
PRODID:-//81.88.36.52//NONSGML kigkonsult.se iCalcreator 2.20//
CALSCALE:GREGORIAN
METHOD:PUBLISH
X-WR-TIMEZONE:Europe/Vienna
BEGIN:VEVENT
UID:event992@Online-Magazin SCHNAPPEN.AT: die interessanten Seiten des Lebe
 ns
DTSTAMP:20260425T121937Z
CATEGORIES:Veranstaltungen
DESCRIPTION:45. Knödelfest St. Johann in Tirol\nKategorie: Veranstaltungen
 \nICS-Link: https://schnappen.at/oesterreich/index.php?option=com_jem&view
 =event&id=992:knoedelfestival\n
DTSTART;VALUE=DATE:20270918
DTEND;VALUE=DATE:20270919
SUMMARY:45. Knödelfest St. Johann in Tirol
URL:https://schnappen.at/oesterreich/index.php?option=com_jem&view=event&id
 =992:knoedelfestival
END:VEVENT
END:VCALENDAR