BEGIN:VCALENDAR
VERSION:2.0
PRODID:-//81.88.36.52//NONSGML kigkonsult.se iCalcreator 2.20//
CALSCALE:GREGORIAN
METHOD:PUBLISH
X-WR-TIMEZONE:Europe/Vienna
BEGIN:VEVENT
UID:event988@Online-Magazin SCHNAPPEN.AT: die interessanten Seiten des Lebe
 ns
DTSTAMP:20260425T122123Z
CATEGORIES:Veranstaltungen
DESCRIPTION:Zwiebelfest in Laa an der Thaya\nKategorie: Veranstaltungen\nIC
 S-Link: https://schnappen.at/oesterreich/index.php?option=com_jem&view=eve
 nt&id=988:zwiebelfest\n
DTSTART;VALUE=DATE:20260814
DTEND;VALUE=DATE:20260817
SUMMARY:Zwiebelfest in Laa an der Thaya
URL:https://schnappen.at/oesterreich/index.php?option=com_jem&view=event&id
 =988:zwiebelfest
END:VEVENT
END:VCALENDAR