BEGIN:VCALENDAR
VERSION:2.0
PRODID:-//81.88.36.52//NONSGML kigkonsult.se iCalcreator 2.20//
CALSCALE:GREGORIAN
METHOD:PUBLISH
X-WR-TIMEZONE:Europe/Vienna
BEGIN:VEVENT
UID:event986@Online-Magazin SCHNAPPEN.AT: die interessanten Seiten des Lebe
 ns
DTSTAMP:20260425T121814Z
CATEGORIES:Veranstaltungen
DESCRIPTION:st. Johanner Knödelfest in Tirol\nKategorie: Veranstaltungen\nI
 CS-Link: https://schnappen.at/oesterreich/index.php?option=com_jem&view=ev
 ent&id=986:knoedelfest\n
DTSTART;VALUE=DATE:20260919
DTEND;VALUE=DATE:20260920
SUMMARY:st. Johanner Knödelfest in Tirol
URL:https://schnappen.at/oesterreich/index.php?option=com_jem&view=event&id
 =986:knoedelfest
END:VEVENT
END:VCALENDAR