BEGIN:VCALENDAR
VERSION:2.0
PRODID:-//81.88.36.52//NONSGML kigkonsult.se iCalcreator 2.20//
CALSCALE:GREGORIAN
METHOD:PUBLISH
X-WR-TIMEZONE:Europe/Vienna
BEGIN:VEVENT
UID:event985@Online-Magazin SCHNAPPEN.AT: die interessanten Seiten des Lebe
 ns
DTSTAMP:20260425T121809Z
CATEGORIES:Termine noch offen
DESCRIPTION:Welser Volksfest\nKategorie: Termine noch offen\nICS-Link: http
 s://schnappen.at/oesterreich/index.php?option=com_jem&view=event&id=985:he
 rbstmesse\n
DTSTART;VALUE=DATE:20270326
DTEND;VALUE=DATE:20270329
SUMMARY:Welser Volksfest
URL:https://schnappen.at/oesterreich/index.php?option=com_jem&view=event&id
 =985:herbstmesse
END:VEVENT
END:VCALENDAR