BEGIN:VCALENDAR
VERSION:2.0
PRODID:-//81.88.36.52//NONSGML kigkonsult.se iCalcreator 2.20//
CALSCALE:GREGORIAN
METHOD:PUBLISH
X-WR-TIMEZONE:Europe/Vienna
BEGIN:VEVENT
UID:event968@Online-Magazin SCHNAPPEN.AT: die interessanten Seiten des Lebe
 ns
DTSTAMP:20260425T122242Z
CATEGORIES:Termine noch offen
DESCRIPTION:Stadtfest 2026 Neusiedl am See\nKategorie: Termine noch offen\n
 ICS-Link: https://schnappen.at/oesterreich/index.php?option=com_jem&view=e
 vent&id=968:stadtfest-neusiedl\n
DTSTART;VALUE=DATE:20260801
DTEND;VALUE=DATE:20260802
SUMMARY:Stadtfest 2026 Neusiedl am See
URL:https://schnappen.at/oesterreich/index.php?option=com_jem&view=event&id
 =968:stadtfest-neusiedl
END:VEVENT
END:VCALENDAR