BEGIN:VCALENDAR
VERSION:2.0
PRODID:-//81.88.36.52//NONSGML kigkonsult.se iCalcreator 2.20//
CALSCALE:GREGORIAN
METHOD:PUBLISH
X-WR-TIMEZONE:Europe/Vienna
BEGIN:VEVENT
UID:event965@Online-Magazin SCHNAPPEN.AT: die interessanten Seiten des Lebe
 ns
DTSTAMP:20260425T121945Z
CATEGORIES:Termine noch offen
DESCRIPTION:Burgenländischer Frauenlauf\nKategorie: Termine noch offen\nICS
 -Link: https://schnappen.at/oesterreich/index.php?option=com_jem&view=even
 t&id=965:frauenlauf\n
DTSTART;VALUE=DATE:20260913
DTEND;VALUE=DATE:20260914
SUMMARY:Burgenländischer Frauenlauf
URL:https://schnappen.at/oesterreich/index.php?option=com_jem&view=event&id
 =965:frauenlauf
END:VEVENT
END:VCALENDAR