BEGIN:VCALENDAR
VERSION:2.0
PRODID:-//81.88.36.52//NONSGML kigkonsult.se iCalcreator 2.20//
CALSCALE:GREGORIAN
METHOD:PUBLISH
X-WR-TIMEZONE:Europe/Vienna
BEGIN:VEVENT
UID:event963@Online-Magazin SCHNAPPEN.AT: die interessanten Seiten des Lebe
 ns
DTSTAMP:20260425T105450Z
CATEGORIES:Veranstaltungen
DESCRIPTION:Römerstadt\, Römerfestival\, Gladitatorentag & Ausstellung Carn
 untum\nKategorie: Veranstaltungen\nICS-Link: https://schnappen.at/oesterre
 ich/index.php?option=com_jem&view=event&id=963:roemerfest\n
DTSTART;VALUE=DATE:20260531
DTEND;VALUE=DATE:20260601
LOCATION:Carnuntum\,Hauptstraße 1A\,2404 Petronell-Carnuntum
SUMMARY:Römerstadt\, Römerfestival\, Gladitatorentag & Ausstellung Carnuntu
 m
URL:https://schnappen.at/oesterreich/index.php?option=com_jem&view=event&id
 =963:roemerfest
END:VEVENT
END:VCALENDAR