BEGIN:VCALENDAR
VERSION:2.0
PRODID:-//81.88.36.52//NONSGML kigkonsult.se iCalcreator 2.20//
CALSCALE:GREGORIAN
METHOD:PUBLISH
X-WR-TIMEZONE:Europe/Vienna
BEGIN:VEVENT
UID:event953@Online-Magazin SCHNAPPEN.AT: die interessanten Seiten des Lebe
 ns
DTSTAMP:20260425T121937Z
CATEGORIES:Termine noch offen
DESCRIPTION:Kirschen- und Genussmarkt in Breitenbrunn am Neusiedler See\nKa
 tegorie: Termine noch offen\nICS-Link: https://schnappen.at/oesterreich/in
 dex.php?option=com_jem&view=event&id=953:kirschenfest\n
DTSTART;TZID=Europe/Vienna:20260530T090000
DTEND;TZID=Europe/Vienna:20260530T140000
SUMMARY:Kirschen- und Genussmarkt in Breitenbrunn am Neusiedler See
URL:https://schnappen.at/oesterreich/index.php?option=com_jem&view=event&id
 =953:kirschenfest
END:VEVENT
END:VCALENDAR