BEGIN:VCALENDAR
VERSION:2.0
PRODID:-//81.88.36.52//NONSGML kigkonsult.se iCalcreator 2.20//
CALSCALE:GREGORIAN
METHOD:PUBLISH
X-WR-TIMEZONE:Europe/Vienna
BEGIN:VEVENT
UID:event949@Online-Magazin SCHNAPPEN.AT: die interessanten Seiten des Lebe
 ns
DTSTAMP:20260425T121816Z
CATEGORIES:Termine noch offen
DESCRIPTION:Kaiserlicher Nachmittag in Laxenburg\nKategorie: Termine noch o
 ffen\nICS-Link: https://schnappen.at/oesterreich/index.php?option=com_jem&
 view=event&id=949:traditionsregiment\n
DTSTART;VALUE=DATE:20261018
DTEND;VALUE=DATE:20261019
SUMMARY:Kaiserlicher Nachmittag in Laxenburg
URL:https://schnappen.at/oesterreich/index.php?option=com_jem&view=event&id
 =949:traditionsregiment
END:VEVENT
END:VCALENDAR