BEGIN:VCALENDAR
VERSION:2.0
PRODID:-//81.88.36.52//NONSGML kigkonsult.se iCalcreator 2.20//
CALSCALE:GREGORIAN
METHOD:PUBLISH
X-WR-TIMEZONE:Europe/Vienna
BEGIN:VEVENT
UID:event948@Online-Magazin SCHNAPPEN.AT: die interessanten Seiten des Lebe
 ns
DTSTAMP:20260425T121916Z
CATEGORIES:Veranstaltungen
DESCRIPTION:Kaya Yanar in Österreich \nKategorie: Veranstaltungen\nICS-Link
 : https://schnappen.at/oesterreich/index.php?option=com_jem&view=event&id=
 948:kaya-yanar\n
DTSTART;VALUE=DATE:20270115
DTEND;VALUE=DATE:20270116
SUMMARY:Kaya Yanar in Österreich 
URL:https://schnappen.at/oesterreich/index.php?option=com_jem&view=event&id
 =948:kaya-yanar
END:VEVENT
END:VCALENDAR