BEGIN:VCALENDAR
VERSION:2.0
PRODID:-//81.88.36.52//NONSGML kigkonsult.se iCalcreator 2.20//
CALSCALE:GREGORIAN
METHOD:PUBLISH
X-WR-TIMEZONE:Europe/Vienna
BEGIN:VEVENT
UID:event940@Online-Magazin SCHNAPPEN.AT: die interessanten Seiten des Lebe
 ns
DTSTAMP:20260425T121830Z
CATEGORIES:Veranstaltungen
DESCRIPTION:Seiler & Speer in Österreich und Deutschland\nKategorie: Verans
 taltungen\nICS-Link: https://schnappen.at/oesterreich/index.php?option=com
 _jem&view=event&id=940:seiler-speer\n
DTSTART;VALUE=DATE:20260724
DTEND;VALUE=DATE:20260725
SUMMARY:Seiler & Speer in Österreich und Deutschland
URL:https://schnappen.at/oesterreich/index.php?option=com_jem&view=event&id
 =940:seiler-speer
END:VEVENT
END:VCALENDAR