BEGIN:VCALENDAR
VERSION:2.0
PRODID:-//81.88.36.52//NONSGML kigkonsult.se iCalcreator 2.20//
CALSCALE:GREGORIAN
METHOD:PUBLISH
X-WR-TIMEZONE:Europe/Vienna
BEGIN:VEVENT
UID:event938@Online-Magazin SCHNAPPEN.AT: die interessanten Seiten des Lebe
 ns
DTSTAMP:20260425T110203Z
CATEGORIES:Veranstaltungen
DESCRIPTION:Sound of the City in Rust am See\nKategorie: Veranstaltungen\nI
 CS-Link: https://schnappen.at/oesterreich/index.php?option=com_jem&view=ev
 ent&id=938:sound-city-rust\n
DTSTART;VALUE=DATE:20260613
DTEND;VALUE=DATE:20260614
LOCATION:Rust am Neusiedlersee\,Hauptstraße\,7071 rust
SUMMARY:Sound of the City in Rust am See
URL:https://schnappen.at/oesterreich/index.php?option=com_jem&view=event&id
 =938:sound-city-rust
END:VEVENT
END:VCALENDAR