BEGIN:VCALENDAR
VERSION:2.0
PRODID:-//81.88.36.52//NONSGML kigkonsult.se iCalcreator 2.20//
CALSCALE:GREGORIAN
METHOD:PUBLISH
X-WR-TIMEZONE:Europe/Vienna
BEGIN:VEVENT
UID:event937@Online-Magazin SCHNAPPEN.AT: die interessanten Seiten des Lebe
 ns
DTSTAMP:20260425T122019Z
CATEGORIES:Veranstaltungen
DESCRIPTION:Schlossspiele Kobersdorf : Bikerfahrt & Oldtimerfahrt \nKategor
 ie: Veranstaltungen\nICS-Link: https://schnappen.at/oesterreich/index.php?
 option=com_jem&view=event&id=937:kobersdorf\n
DTSTART;VALUE=DATE:20260711
DTEND;VALUE=DATE:20260712
LOCATION:Schloss Kobersdorf\,Schloss\,7332 Kobersdorf
SUMMARY:Schlossspiele Kobersdorf : Bikerfahrt & Oldtimerfahrt 
URL:https://schnappen.at/oesterreich/index.php?option=com_jem&view=event&id
 =937:kobersdorf
END:VEVENT
END:VCALENDAR