BEGIN:VCALENDAR
VERSION:2.0
PRODID:-//81.88.36.52//NONSGML kigkonsult.se iCalcreator 2.20//
CALSCALE:GREGORIAN
METHOD:PUBLISH
X-WR-TIMEZONE:Europe/Vienna
BEGIN:VEVENT
UID:event930@Online-Magazin SCHNAPPEN.AT: die interessanten Seiten des Lebe
 ns
DTSTAMP:20260425T121809Z
CATEGORIES:Veranstaltungen
DESCRIPTION:Keltentage Freilichtmuseum Schwarzenbach\nKategorie: Veranstalt
 ungen\nICS-Link: https://schnappen.at/oesterreich/index.php?option=com_jem
 &view=event&id=930:kelten\n
DTSTART;VALUE=DATE:20260822
DTEND;VALUE=DATE:20260824
SUMMARY:Keltentage Freilichtmuseum Schwarzenbach
URL:https://schnappen.at/oesterreich/index.php?option=com_jem&view=event&id
 =930:kelten
END:VEVENT
END:VCALENDAR