BEGIN:VCALENDAR
VERSION:2.0
PRODID:-//81.88.36.52//NONSGML kigkonsult.se iCalcreator 2.20//
CALSCALE:GREGORIAN
METHOD:PUBLISH
X-WR-TIMEZONE:Europe/Vienna
BEGIN:VEVENT
UID:event925@Online-Magazin SCHNAPPEN.AT: die interessanten Seiten des Lebe
 ns
DTSTAMP:20260425T121918Z
CATEGORIES:Heurigentermine\, Veranstaltungen
DESCRIPTION:Kirtag & Wein am Eisenberg\nKategorie: Heurigentermine\, Verans
 taltungen\nICS-Link: https://schnappen.at/oesterreich/index.php?option=com
 _jem&view=event&id=925:eisenberg\n
DTSTART;VALUE=DATE:20260718
DTEND;VALUE=DATE:20260720
SUMMARY:Kirtag & Wein am Eisenberg
URL:https://schnappen.at/oesterreich/index.php?option=com_jem&view=event&id
 =925:eisenberg
END:VEVENT
END:VCALENDAR