BEGIN:VCALENDAR
VERSION:2.0
PRODID:-//81.88.36.52//NONSGML kigkonsult.se iCalcreator 2.20//
CALSCALE:GREGORIAN
METHOD:PUBLISH
X-WR-TIMEZONE:Europe/Vienna
BEGIN:VEVENT
UID:event907@Online-Magazin SCHNAPPEN.AT: die interessanten Seiten des Lebe
 ns
DTSTAMP:20260425T121827Z
CATEGORIES:Veranstaltungen
DESCRIPTION:Il Volo in Österreich und in der Schweiz\nKategorie: Veranstalt
 ungen\nICS-Link: https://schnappen.at/oesterreich/index.php?option=com_jem
 &view=event&id=907:il-volo\n
DTSTART;TZID=Europe/Vienna:20260827T200000
DTEND;TZID=Europe/Vienna:20260827T200000
SUMMARY:Il Volo in Österreich und in der Schweiz
URL:https://schnappen.at/oesterreich/index.php?option=com_jem&view=event&id
 =907:il-volo
END:VEVENT
END:VCALENDAR