BEGIN:VCALENDAR
VERSION:2.0
PRODID:-//81.88.36.52//NONSGML kigkonsult.se iCalcreator 2.20//
CALSCALE:GREGORIAN
METHOD:PUBLISH
X-WR-TIMEZONE:Europe/Vienna
BEGIN:VEVENT
UID:event903@Online-Magazin SCHNAPPEN.AT: die interessanten Seiten des Lebe
 ns
DTSTAMP:20260425T122210Z
CATEGORIES:Termine noch offen
DESCRIPTION:Kunsthandwerksmarkt Zwettl\nKategorie: Termine noch offen\nICS-
 Link: https://schnappen.at/oesterreich/index.php?option=com_jem&view=event
 &id=903:kunst-zwettl\n
DTSTART;VALUE=DATE:20261003
DTEND;VALUE=DATE:20261005
SUMMARY:Kunsthandwerksmarkt Zwettl
URL:https://schnappen.at/oesterreich/index.php?option=com_jem&view=event&id
 =903:kunst-zwettl
END:VEVENT
END:VCALENDAR