BEGIN:VCALENDAR
VERSION:2.0
PRODID:-//81.88.36.52//NONSGML kigkonsult.se iCalcreator 2.20//
CALSCALE:GREGORIAN
METHOD:PUBLISH
X-WR-TIMEZONE:Europe/Vienna
BEGIN:VEVENT
UID:event896@Online-Magazin SCHNAPPEN.AT: die interessanten Seiten des Lebe
 ns
DTSTAMP:20260425T121655Z
CATEGORIES:Veranstaltungen
DESCRIPTION:1. Mai: Tieraufmarsch und Maibaumtanz\nKategorie: Veranstaltung
 en\nICS-Link: https://schnappen.at/oesterreich/index.php?option=com_jem&vi
 ew=event&id=896:mai\n
DTSTART;TZID=Europe/Vienna:20260501T140000
DTEND;TZID=Europe/Vienna:20260501T140000
LOCATION:Schloss Hof\,Schlosshof 1\,2294 Schlosshof
SUMMARY:1. Mai: Tieraufmarsch und Maibaumtanz
URL:https://schnappen.at/oesterreich/index.php?option=com_jem&view=event&id
 =896:mai
END:VEVENT
END:VCALENDAR