BEGIN:VCALENDAR
VERSION:2.0
PRODID:-//81.88.36.52//NONSGML kigkonsult.se iCalcreator 2.20//
CALSCALE:GREGORIAN
METHOD:PUBLISH
X-WR-TIMEZONE:Europe/Vienna
BEGIN:VEVENT
UID:event895@Online-Magazin SCHNAPPEN.AT: die interessanten Seiten des Lebe
 ns
DTSTAMP:20260425T105519Z
CATEGORIES:Wir berichten über...\, Veranstaltungen
DESCRIPTION:Keltenfestival Bucklige Welt in Schwarzenbach\nKategorie: Wir b
 erichten über...\, Veranstaltungen\nICS-Link: https://schnappen.at/oesterr
 eich/index.php?option=com_jem&view=event&id=895:keltenfestival\n
DTSTART;VALUE=DATE:20260619
DTEND;VALUE=DATE:20260622
SUMMARY:Keltenfestival Bucklige Welt in Schwarzenbach
URL:https://schnappen.at/oesterreich/index.php?option=com_jem&view=event&id
 =895:keltenfestival
END:VEVENT
END:VCALENDAR