BEGIN:VCALENDAR
VERSION:2.0
PRODID:-//81.88.36.52//NONSGML kigkonsult.se iCalcreator 2.20//
CALSCALE:GREGORIAN
METHOD:PUBLISH
X-WR-TIMEZONE:Europe/Vienna
BEGIN:VEVENT
UID:event888@Online-Magazin SCHNAPPEN.AT: die interessanten Seiten des Lebe
 ns
DTSTAMP:20260425T121654Z
CATEGORIES:Veranstaltungen
DESCRIPTION:Oper Burg Gars & das Opernhaus im Waldviertel\nKategorie: Veran
 staltungen\nICS-Link: https://schnappen.at/oesterreich/index.php?option=co
 m_jem&view=event&id=888:oper-gars\n
DTSTART;TZID=Europe/Vienna:20260711T200000
DTEND;TZID=Europe/Vienna:20260801T200000
LOCATION:Burg Gars am Kamp\,Am Schlossberg\,3571 Gars
SUMMARY:Oper Burg Gars & das Opernhaus im Waldviertel
URL:https://schnappen.at/oesterreich/index.php?option=com_jem&view=event&id
 =888:oper-gars
END:VEVENT
END:VCALENDAR