BEGIN:VCALENDAR
VERSION:2.0
PRODID:-//81.88.36.52//NONSGML kigkonsult.se iCalcreator 2.20//
CALSCALE:GREGORIAN
METHOD:PUBLISH
X-WR-TIMEZONE:Europe/Vienna
BEGIN:VEVENT
UID:event885@Online-Magazin SCHNAPPEN.AT: die interessanten Seiten des Lebe
 ns
DTSTAMP:20260425T121940Z
CATEGORIES:Veranstaltungen
DESCRIPTION:Dorfmuseum\, Freilichtmuseum in Mönchhof\nKategorie: Veranstalt
 ungen\nICS-Link: https://schnappen.at/oesterreich/index.php?option=com_jem
 &view=event&id=885:dorfmuseum\n
DTSTART;VALUE=DATE:20260501
DTEND;VALUE=DATE:20261101
SUMMARY:Dorfmuseum\, Freilichtmuseum in Mönchhof
URL:https://schnappen.at/oesterreich/index.php?option=com_jem&view=event&id
 =885:dorfmuseum
END:VEVENT
END:VCALENDAR