BEGIN:VCALENDAR
VERSION:2.0
PRODID:-//81.88.36.52//NONSGML kigkonsult.se iCalcreator 2.20//
CALSCALE:GREGORIAN
METHOD:PUBLISH
X-WR-TIMEZONE:Europe/Vienna
BEGIN:VEVENT
UID:event881@Online-Magazin SCHNAPPEN.AT: die interessanten Seiten des Lebe
 ns
DTSTAMP:20260425T121918Z
CATEGORIES:Veranstaltungen
DESCRIPTION:Steaming Satellites\nKategorie: Veranstaltungen\nICS-Link: http
 s://schnappen.at/oesterreich/index.php?option=com_jem&view=event&id=881:st
 eaming-satellites\n
DTSTART;VALUE=DATE:20261021
DTEND;VALUE=DATE:20261022
SUMMARY:Steaming Satellites
URL:https://schnappen.at/oesterreich/index.php?option=com_jem&view=event&id
 =881:steaming-satellites
END:VEVENT
END:VCALENDAR