BEGIN:VCALENDAR
VERSION:2.0
PRODID:-//81.88.36.52//NONSGML kigkonsult.se iCalcreator 2.20//
CALSCALE:GREGORIAN
METHOD:PUBLISH
X-WR-TIMEZONE:Europe/Vienna
BEGIN:VEVENT
UID:event85@Online-Magazin SCHNAPPEN.AT: die interessanten Seiten des Leben
 s
DTSTAMP:20260425T134037Z
CATEGORIES:Wir berichten über...\, Messeveranstaltungen im Messekalender
DESCRIPTION:Ferienmesse Wien\nKategorie: Wir berichten über...\, Messeveran
 staltungen im Messekalender\nICS-Link: https://schnappen.at/oesterreich/in
 dex.php?option=com_jem&view=event&id=85:ferienmesse\n
DTSTART;VALUE=DATE:20270114
DTEND;VALUE=DATE:20270128
LOCATION:Messezentrum Wien\,Messeplatz 1\,1020 Wien
SUMMARY:Ferienmesse Wien
URL:https://schnappen.at/oesterreich/index.php?option=com_jem&view=event&id
 =85:ferienmesse
END:VEVENT
END:VCALENDAR