BEGIN:VCALENDAR
VERSION:2.0
PRODID:-//81.88.36.52//NONSGML kigkonsult.se iCalcreator 2.20//
CALSCALE:GREGORIAN
METHOD:PUBLISH
X-WR-TIMEZONE:Europe/Vienna
BEGIN:VEVENT
UID:event855@Online-Magazin SCHNAPPEN.AT: die interessanten Seiten des Lebe
 ns
DTSTAMP:20260425T121645Z
CATEGORIES:Veranstaltungen
DESCRIPTION:Oper im Steinbruch 2026 St. Margarethen: Tosca\nKategorie: Vera
 nstaltungen\nICS-Link: https://schnappen.at/oesterreich/index.php?option=c
 om_jem&view=event&id=855:oper-steinbruch\n
DTSTART;VALUE=DATE:20260715
DTEND;VALUE=DATE:20260823
LOCATION:Steinbruch St. Margarethen\,Römersteinbruch\,7062 St. Margarethen
SUMMARY:Oper im Steinbruch 2026 St. Margarethen: Tosca
URL:https://schnappen.at/oesterreich/index.php?option=com_jem&view=event&id
 =855:oper-steinbruch
END:VEVENT
END:VCALENDAR