BEGIN:VCALENDAR
VERSION:2.0
PRODID:-//81.88.36.52//NONSGML kigkonsult.se iCalcreator 2.20//
CALSCALE:GREGORIAN
METHOD:PUBLISH
X-WR-TIMEZONE:Europe/Vienna
BEGIN:VEVENT
UID:event849@Online-Magazin SCHNAPPEN.AT: die interessanten Seiten des Lebe
 ns
DTSTAMP:20260425T122110Z
CATEGORIES:Veranstaltungen
DESCRIPTION:Saint City Orchestra in Österreich und in der Schweiz\nKategori
 e: Veranstaltungen\nICS-Link: https://schnappen.at/oesterreich/index.php?o
 ption=com_jem&view=event&id=849:saint-city-orchestra\n
DTSTART;VALUE=DATE:20261024
DTEND;VALUE=DATE:20261025
SUMMARY:Saint City Orchestra in Österreich und in der Schweiz
URL:https://schnappen.at/oesterreich/index.php?option=com_jem&view=event&id
 =849:saint-city-orchestra
END:VEVENT
END:VCALENDAR