BEGIN:VCALENDAR
VERSION:2.0
PRODID:-//81.88.36.52//NONSGML kigkonsult.se iCalcreator 2.20//
CALSCALE:GREGORIAN
METHOD:PUBLISH
X-WR-TIMEZONE:Europe/Vienna
BEGIN:VEVENT
UID:event847@Online-Magazin SCHNAPPEN.AT: die interessanten Seiten des Lebe
 ns
DTSTAMP:20260425T121920Z
CATEGORIES:Veranstaltungen
DESCRIPTION:Sarah Connor in Deutschland\nKategorie: Veranstaltungen\nICS-Li
 nk: https://schnappen.at/oesterreich/index.php?option=com_jem&view=event&i
 d=847:sarah-connor\n
DTSTART;VALUE=DATE:20260815
DTEND;VALUE=DATE:20260816
SUMMARY:Sarah Connor in Deutschland
URL:https://schnappen.at/oesterreich/index.php?option=com_jem&view=event&id
 =847:sarah-connor
END:VEVENT
END:VCALENDAR