BEGIN:VCALENDAR
VERSION:2.0
PRODID:-//81.88.36.52//NONSGML kigkonsult.se iCalcreator 2.20//
CALSCALE:GREGORIAN
METHOD:PUBLISH
X-WR-TIMEZONE:Europe/Vienna
BEGIN:VEVENT
UID:event845@Online-Magazin SCHNAPPEN.AT: die interessanten Seiten des Lebe
 ns
DTSTAMP:20260425T105457Z
CATEGORIES:Wir berichten über...\, Veranstaltungen
DESCRIPTION:Passionsspiele St. Margarethen\nKategorie: Wir berichten über..
 .\, Veranstaltungen\nICS-Link: https://schnappen.at/oesterreich/index.php?
 option=com_jem&view=event&id=845:passionsspiele\n
DTSTART;VALUE=DATE:20260523
DTEND;VALUE=DATE:20260713
LOCATION:Steinbruch St. Margarethen\,Römersteinbruch\,7062 St. Margarethen
SUMMARY:Passionsspiele St. Margarethen
URL:https://schnappen.at/oesterreich/index.php?option=com_jem&view=event&id
 =845:passionsspiele
END:VEVENT
END:VCALENDAR