BEGIN:VCALENDAR
VERSION:2.0
PRODID:-//81.88.36.52//NONSGML kigkonsult.se iCalcreator 2.20//
CALSCALE:GREGORIAN
METHOD:PUBLISH
X-WR-TIMEZONE:Europe/Vienna
BEGIN:VEVENT
UID:event823@Online-Magazin SCHNAPPEN.AT: die interessanten Seiten des Lebe
 ns
DTSTAMP:20260425T121915Z
CATEGORIES:Veranstaltungen
DESCRIPTION:Annenmaykantereit \nKategorie: Veranstaltungen\nICS-Link: https
 ://schnappen.at/oesterreich/index.php?option=com_jem&view=event&id=823:ann
 enmaykantereit\n
DTSTART;VALUE=DATE:20260919
DTEND;VALUE=DATE:20260920
SUMMARY:Annenmaykantereit 
URL:https://schnappen.at/oesterreich/index.php?option=com_jem&view=event&id
 =823:annenmaykantereit
END:VEVENT
END:VCALENDAR