BEGIN:VCALENDAR
VERSION:2.0
PRODID:-//81.88.36.52//NONSGML kigkonsult.se iCalcreator 2.20//
CALSCALE:GREGORIAN
METHOD:PUBLISH
X-WR-TIMEZONE:Europe/Vienna
BEGIN:VEVENT
UID:event822@Online-Magazin SCHNAPPEN.AT: die interessanten Seiten des Lebe
 ns
DTSTAMP:20260425T121939Z
CATEGORIES:Veranstaltungen
DESCRIPTION:Fäaschtbänkler\nKategorie: Veranstaltungen\nICS-Link: https://s
 chnappen.at/oesterreich/index.php?option=com_jem&view=event&id=822:faeasch
 tbaenkler\n
DTSTART;VALUE=DATE:20260711
DTEND;VALUE=DATE:20260712
LOCATION:Burg Clam\,Sperken 1\,4352 Klam
SUMMARY:Fäaschtbänkler
URL:https://schnappen.at/oesterreich/index.php?option=com_jem&view=event&id
 =822:faeaschtbaenkler
END:VEVENT
END:VCALENDAR