BEGIN:VCALENDAR
VERSION:2.0
PRODID:-//81.88.36.52//NONSGML kigkonsult.se iCalcreator 2.20//
CALSCALE:GREGORIAN
METHOD:PUBLISH
X-WR-TIMEZONE:Europe/Vienna
BEGIN:VEVENT
UID:event816@Online-Magazin SCHNAPPEN.AT: die interessanten Seiten des Lebe
 ns
DTSTAMP:20260425T121813Z
CATEGORIES:Veranstaltungen
DESCRIPTION:Weintaufe: Wachauer Weintaufe\nKategorie: Veranstaltungen\nICS-
 Link: https://schnappen.at/oesterreich/index.php?option=com_jem&view=event
 &id=816:weintaufe\n
DTSTART;TZID=Europe/Vienna:20261111T180000
DTEND;TZID=Europe/Vienna:20261111T180000
SUMMARY:Weintaufe: Wachauer Weintaufe
URL:https://schnappen.at/oesterreich/index.php?option=com_jem&view=event&id
 =816:weintaufe
END:VEVENT
END:VCALENDAR