BEGIN:VCALENDAR
VERSION:2.0
PRODID:-//81.88.36.52//NONSGML kigkonsult.se iCalcreator 2.20//
CALSCALE:GREGORIAN
METHOD:PUBLISH
X-WR-TIMEZONE:Europe/Vienna
BEGIN:VEVENT
UID:event811@Online-Magazin SCHNAPPEN.AT: die interessanten Seiten des Lebe
 ns
DTSTAMP:20260425T122112Z
CATEGORIES:Termine noch offen
DESCRIPTION:Immobilienball\, Ball der Immobilienwirtschaft 2027\nKategorie:
  Termine noch offen\nICS-Link: https://schnappen.at/oesterreich/index.php?
 option=com_jem&view=event&id=811:immobilienball\n
DTSTART;VALUE=DATE:20270212
DTEND;VALUE=DATE:20270213
LOCATION:Hofburg Wien\,Michaelerkuppel\,1010 Wien
SUMMARY:Immobilienball\, Ball der Immobilienwirtschaft 2027
URL:https://schnappen.at/oesterreich/index.php?option=com_jem&view=event&id
 =811:immobilienball
END:VEVENT
END:VCALENDAR