BEGIN:VCALENDAR
VERSION:2.0
PRODID:-//81.88.36.52//NONSGML kigkonsult.se iCalcreator 2.20//
CALSCALE:GREGORIAN
METHOD:PUBLISH
X-WR-TIMEZONE:Europe/Vienna
BEGIN:VEVENT
UID:event810@Online-Magazin SCHNAPPEN.AT: die interessanten Seiten des Lebe
 ns
DTSTAMP:20260425T122101Z
CATEGORIES:Ballkalender & Balltermine
DESCRIPTION:Rudolfina-Redoute\nKategorie: Ballkalender & Balltermine\nICS-L
 ink: https://schnappen.at/oesterreich/index.php?option=com_jem&view=event&
 id=810:rudolfina-redoute\n
DTSTART;VALUE=DATE:20270208
DTEND;VALUE=DATE:20270209
LOCATION:Hofburg Wien\,Michaelerkuppel\,1010 Wien
SUMMARY:Rudolfina-Redoute
URL:https://schnappen.at/oesterreich/index.php?option=com_jem&view=event&id
 =810:rudolfina-redoute
END:VEVENT
END:VCALENDAR