BEGIN:VCALENDAR
VERSION:2.0
PRODID:-//81.88.36.52//NONSGML kigkonsult.se iCalcreator 2.20//
CALSCALE:GREGORIAN
METHOD:PUBLISH
X-WR-TIMEZONE:Europe/Vienna
BEGIN:VEVENT
UID:event809@Online-Magazin SCHNAPPEN.AT: die interessanten Seiten des Lebe
 ns
DTSTAMP:20260425T121630Z
CATEGORIES:Termine noch offen
DESCRIPTION:39. Vöslauer Ball im Kursalon\nKategorie: Termine noch offen\nI
 CS-Link: https://schnappen.at/oesterreich/index.php?option=com_jem&view=ev
 ent&id=809:voeslauer-ball\n
DTSTART;VALUE=DATE:20270109
DTEND;VALUE=DATE:20270110
LOCATION:Kursalon Bad Vöslau\,Waldwiese 2\,2540 Bad Vöslau
SUMMARY:39. Vöslauer Ball im Kursalon
URL:https://schnappen.at/oesterreich/index.php?option=com_jem&view=event&id
 =809:voeslauer-ball
END:VEVENT
END:VCALENDAR