BEGIN:VCALENDAR
VERSION:2.0
PRODID:-//81.88.36.52//NONSGML kigkonsult.se iCalcreator 2.20//
CALSCALE:GREGORIAN
METHOD:PUBLISH
X-WR-TIMEZONE:Europe/Vienna
BEGIN:VEVENT
UID:event800@Online-Magazin SCHNAPPEN.AT: die interessanten Seiten des Lebe
 ns
DTSTAMP:20260425T121827Z
CATEGORIES:Termine noch offen
DESCRIPTION:BOKU-Ball 2027\nKategorie: Termine noch offen\nICS-Link: https:
 //schnappen.at/oesterreich/index.php?option=com_jem&view=event&id=800:boku
 -ball\n
DTSTART;VALUE=DATE:20270108
DTEND;VALUE=DATE:20270109
LOCATION:Wien Rathaus\,Rathausplatz 1\,1010 Wien
SUMMARY:BOKU-Ball 2027
URL:https://schnappen.at/oesterreich/index.php?option=com_jem&view=event&id
 =800:boku-ball
END:VEVENT
END:VCALENDAR