BEGIN:VCALENDAR
VERSION:2.0
PRODID:-//81.88.36.52//NONSGML kigkonsult.se iCalcreator 2.20//
CALSCALE:GREGORIAN
METHOD:PUBLISH
X-WR-TIMEZONE:Europe/Vienna
BEGIN:VEVENT
UID:event795@Online-Magazin SCHNAPPEN.AT: die interessanten Seiten des Lebe
 ns
DTSTAMP:20260425T121820Z
CATEGORIES:Veranstaltungen
DESCRIPTION:DeSchoWieda in Deutschland\nKategorie: Veranstaltungen\nICS-Lin
 k: https://schnappen.at/oesterreich/index.php?option=com_jem&view=event&id
 =795:deschowieda\n
DTSTART;VALUE=DATE:20261031
DTEND;VALUE=DATE:20261101
SUMMARY:DeSchoWieda in Deutschland
URL:https://schnappen.at/oesterreich/index.php?option=com_jem&view=event&id
 =795:deschowieda
END:VEVENT
END:VCALENDAR