BEGIN:VCALENDAR
VERSION:2.0
PRODID:-//81.88.36.52//NONSGML kigkonsult.se iCalcreator 2.20//
CALSCALE:GREGORIAN
METHOD:PUBLISH
X-WR-TIMEZONE:Europe/Vienna
BEGIN:VEVENT
UID:event792@Online-Magazin SCHNAPPEN.AT: die interessanten Seiten des Lebe
 ns
DTSTAMP:20260425T122118Z
CATEGORIES:Termine noch offen
DESCRIPTION:Flohmarkt St. Pölten\nKategorie: Termine noch offen\nICS-Link: 
 https://schnappen.at/oesterreich/index.php?option=com_jem&view=event&id=79
 2:flohmarkt-st-poelten\n
DTSTART;VALUE=DATE:20261017
DTEND;VALUE=DATE:20261018
SUMMARY:Flohmarkt St. Pölten
URL:https://schnappen.at/oesterreich/index.php?option=com_jem&view=event&id
 =792:flohmarkt-st-poelten
END:VEVENT
END:VCALENDAR