BEGIN:VCALENDAR
VERSION:2.0
PRODID:-//81.88.36.52//NONSGML kigkonsult.se iCalcreator 2.20//
CALSCALE:GREGORIAN
METHOD:PUBLISH
X-WR-TIMEZONE:Europe/Vienna
BEGIN:VEVENT
UID:event783@Online-Magazin SCHNAPPEN.AT: die interessanten Seiten des Lebe
 ns
DTSTAMP:20260425T122207Z
CATEGORIES:Termine noch offen
DESCRIPTION:Spielzeugbörse\, Modellbahnbörse\, Spielzeugtauschbörse\nKatego
 rie: Termine noch offen\nICS-Link: https://schnappen.at/oesterreich/index.
 php?option=com_jem&view=event&id=783:spielzeugboerse\n
DTSTART;TZID=Europe/Vienna:20260503T090000
DTEND;TZID=Europe/Vienna:20260503T130000
SUMMARY:Spielzeugbörse\, Modellbahnbörse\, Spielzeugtauschbörse
URL:https://schnappen.at/oesterreich/index.php?option=com_jem&view=event&id
 =783:spielzeugboerse
END:VEVENT
END:VCALENDAR