BEGIN:VCALENDAR
VERSION:2.0
PRODID:-//81.88.36.52//NONSGML kigkonsult.se iCalcreator 2.20//
CALSCALE:GREGORIAN
METHOD:PUBLISH
X-WR-TIMEZONE:Europe/Vienna
BEGIN:VEVENT
UID:event769@Online-Magazin SCHNAPPEN.AT: die interessanten Seiten des Lebe
 ns
DTSTAMP:20260425T134037Z
CATEGORIES:Messeveranstaltungen im Messekalender
DESCRIPTION:Interpädagogica\nKategorie: Messeveranstaltungen im Messekalend
 er\nICS-Link: https://schnappen.at/oesterreich/index.php?option=com_jem&vi
 ew=event&id=769:interpaedagogica\n
DTSTART;VALUE=DATE:20261112
DTEND;VALUE=DATE:20261115
LOCATION:Messezentrum Wien\,Messeplatz 1\,1020 Wien
SUMMARY:Interpädagogica
URL:https://schnappen.at/oesterreich/index.php?option=com_jem&view=event&id
 =769:interpaedagogica
END:VEVENT
END:VCALENDAR