BEGIN:VCALENDAR
VERSION:2.0
PRODID:-//81.88.36.52//NONSGML kigkonsult.se iCalcreator 2.20//
CALSCALE:GREGORIAN
METHOD:PUBLISH
X-WR-TIMEZONE:Europe/Vienna
BEGIN:VEVENT
UID:event768@Online-Magazin SCHNAPPEN.AT: die interessanten Seiten des Lebe
 ns
DTSTAMP:20260425T121652Z
CATEGORIES:Veranstaltungen
DESCRIPTION:VIECC Vienna Comic Con\nKategorie: Veranstaltungen\nICS-Link: h
 ttps://schnappen.at/oesterreich/index.php?option=com_jem&view=event&id=768
 :vienna-comic\n
DTSTART;VALUE=DATE:20261121
DTEND;VALUE=DATE:20261123
LOCATION:Messezentrum Wien\,Messeplatz 1\,1020 Wien
SUMMARY:VIECC Vienna Comic Con
URL:https://schnappen.at/oesterreich/index.php?option=com_jem&view=event&id
 =768:vienna-comic
END:VEVENT
END:VCALENDAR