BEGIN:VCALENDAR
VERSION:2.0
PRODID:-//81.88.36.52//NONSGML kigkonsult.se iCalcreator 2.20//
CALSCALE:GREGORIAN
METHOD:PUBLISH
X-WR-TIMEZONE:Europe/Vienna
BEGIN:VEVENT
UID:event763@Online-Magazin SCHNAPPEN.AT: die interessanten Seiten des Lebe
 ns
DTSTAMP:20260425T134118Z
CATEGORIES:Messeveranstaltungen im Messekalender
DESCRIPTION:Lebenslust\, Messe für Senioren\nKategorie: Messeveranstaltunge
 n im Messekalender\nICS-Link: https://schnappen.at/oesterreich/index.php?o
 ption=com_jem&view=event&id=763:senioren-messe\n
DTSTART;TZID=Europe/Vienna:20260930T090000
DTEND;TZID=Europe/Vienna:20260930T170000
LOCATION:Messezentrum Wien\,Messeplatz 1\,1020 Wien
SUMMARY:Lebenslust\, Messe für Senioren
URL:https://schnappen.at/oesterreich/index.php?option=com_jem&view=event&id
 =763:senioren-messe
END:VEVENT
END:VCALENDAR