BEGIN:VCALENDAR
VERSION:2.0
PRODID:-//81.88.36.52//NONSGML kigkonsult.se iCalcreator 2.20//
CALSCALE:GREGORIAN
METHOD:PUBLISH
X-WR-TIMEZONE:Europe/Vienna
BEGIN:VEVENT
UID:event762@Online-Magazin SCHNAPPEN.AT: die interessanten Seiten des Lebe
 ns
DTSTAMP:20260425T121937Z
CATEGORIES:Termine noch offen
DESCRIPTION:Wiener Immobilien Messe 2027\nKategorie: Termine noch offen\nIC
 S-Link: https://schnappen.at/oesterreich/index.php?option=com_jem&view=eve
 nt&id=762:immobilien\n
DTSTART;VALUE=DATE:20270311
DTEND;VALUE=DATE:20270316
LOCATION:Messezentrum Wien\,Messeplatz 1\,1020 Wien
SUMMARY:Wiener Immobilien Messe 2027
URL:https://schnappen.at/oesterreich/index.php?option=com_jem&view=event&id
 =762:immobilien
END:VEVENT
END:VCALENDAR